BEGIN:VCALENDAR
VERSION:2.0
PRODID:-//AIA South Carolina - ECPv6.14.2//NONSGML v1.0//EN
CALSCALE:GREGORIAN
METHOD:PUBLISH
X-WR-CALNAME:AIA South Carolina
X-ORIGINAL-URL:https://www.aiasc.org
X-WR-CALDESC:Events for AIA South Carolina
REFRESH-INTERVAL;VALUE=DURATION:PT1H
X-Robots-Tag:noindex
X-PUBLISHED-TTL:PT1H
BEGIN:VTIMEZONE
TZID:America/New_York
BEGIN:DAYLIGHT
TZOFFSETFROM:-0500
TZOFFSETTO:-0400
TZNAME:EDT
DTSTART:20260308T070000
END:DAYLIGHT
BEGIN:STANDARD
TZOFFSETFROM:-0400
TZOFFSETTO:-0500
TZNAME:EST
DTSTART:20261101T060000
END:STANDARD
END:VTIMEZONE
BEGIN:VEVENT
DTSTART;VALUE=DATE:20260412
DTEND;VALUE=DATE:20260504
DTSTAMP:20260421T020346
CREATED:20260420T233319Z
LAST-MODIFIED:20260420T233319Z
UID:248504-1775952000-1777852799@www.aiasc.org
SUMMARY:2026 People's Choice Awards Voting!
DESCRIPTION:The SC Architectural Foundation is partnering with AIA South Carolina to spearhead the 2026 People’s Choice Awards and promote conversations on architecture and design. The People’s Choice Awards draws from the AIA SC Design Awards project entries and welcomes the public to vote for their favorites in each of nine categories: \n\nAdaptive Reuse or Historic Preservation\nInterior Architecture\nNew Construction/Substantial Renovation under 5\,000SF\nNew Construction/Substantial Renovation over 5\,000SF\nResidential New Construction under $1\,000\,000\nResidential New Construction over $1\,000\,000\nResidential Renovation or Addition over $500\,000\nSmall Projects\nUrban Design/Master Planning\n\nVoting is open to the public through Sunday May 3.
URL:https://www.aiasc.org/event/2026-peoples-choice-awards-voting/
CATEGORIES:AIA Charleston,AIA Columbia,AIA Grand Strand,AIA Greenville,AIA Lowcountry,AIA Spartanburg,Chapter Event,Clemson University,COTE,EP/YAF,SCNOMA
ATTACH;FMTTYPE=image/jpeg:https://www.aiasc.org/wp-content/uploads/2026/04/7a2b0182-10fb-4aa1-a364-fb40b35cf05f.jpg
END:VEVENT
END:VCALENDAR