BEGIN:VCALENDAR
VERSION:2.0
PRODID:-//AIA South Carolina - ECPv6.14.2//NONSGML v1.0//EN
CALSCALE:GREGORIAN
METHOD:PUBLISH
X-WR-CALNAME:AIA South Carolina
X-ORIGINAL-URL:https://www.aiasc.org
X-WR-CALDESC:Events for AIA South Carolina
REFRESH-INTERVAL;VALUE=DURATION:PT1H
X-Robots-Tag:noindex
X-PUBLISHED-TTL:PT1H
BEGIN:VTIMEZONE
TZID:America/New_York
BEGIN:DAYLIGHT
TZOFFSETFROM:-0500
TZOFFSETTO:-0400
TZNAME:EDT
DTSTART:20260308T070000
END:DAYLIGHT
BEGIN:STANDARD
TZOFFSETFROM:-0400
TZOFFSETTO:-0500
TZNAME:EST
DTSTART:20261101T060000
END:STANDARD
END:VTIMEZONE
BEGIN:VEVENT
DTSTART;TZID=America/New_York:20260127T080000
DTEND;TZID=America/New_York:20260127T170000
DTSTAMP:20260420T020241
CREATED:20260114T032305Z
LAST-MODIFIED:20260114T032305Z
UID:247902-1769500800-1769533200@www.aiasc.org
SUMMARY:SCNOMA Architecture Club - Call for Volunteers!!  
DESCRIPTION:SCNOMA – Call for Volunteers!!\nVOLUNTEERS NEEDED!! The Architecture Club at the KROC Center of Greenville is in need of volunteers to help facilitate the experience. First session for the club started last week on September 16th\, but don’t let that stop you from joining in! Architecture Club meets every two weeks until April of next year. The Architecture Club meets on Tuesdays from 4 – 5pm and your time is appreciated whether you can make it once or multiple times. \nPlease reach out to Jonathan Navarro or Michael Urueta or scan the QRcode to find out more about this volunteering opportunity! \nPlease email – jonathannavarro@ls3p.com\n  michaelurueta@ls3p.com
URL:https://www.aiasc.org/event/scnoma-architecture-club-call-for-volunteers/
CATEGORIES:SCNOMA
ATTACH;FMTTYPE=image/jpeg:https://www.aiasc.org/wp-content/uploads/2026/01/5d2729c4-df52-ff59-6909-9ed58b160507.jpg
END:VEVENT
END:VCALENDAR